BEGIN:VCALENDAR
VERSION:2.0
PRODID:SchoolNow
CALSCALE:GREGORIAN
BEGIN:VEVENT
UID:756e0bf8-07b4-11f1-ac7c-0affe4dae375
DTSTAMP:20260423T062007Z
SUMMARY:BMX show
URL;VALUE=URI:https://www.littletonps.org/shaker-lane-school/calendar/88536
 24/bmx-show
DTSTART;VALUE=DATE:20260413
DTEND;VALUE=DATE:20260414
END:VEVENT
END:VCALENDAR
