BEGIN:VCALENDAR
VERSION:2.0
PRODID:SchoolNow
CALSCALE:GREGORIAN
BEGIN:VEVENT
UID:62a51ab2-fd27-11f0-882c-0231a46967eb
DTSTAMP:20260423T001507Z
SUMMARY:MAP Testing ELA - 2nd Grade
URL;VALUE=URI:https://www.littletonps.org/shaker-lane-school/calendar/88465
 25/map-testing-ela-2nd-grade
DTSTART;VALUE=DATE:20260128
DTEND;VALUE=DATE:20260129
END:VEVENT
END:VCALENDAR
