BEGIN:VCALENDAR
VERSION:2.0
PRODID:SchoolNow
CALSCALE:GREGORIAN
BEGIN:VEVENT
UID:62a518aa-fd27-11f0-8016-0231a46967eb
DTSTAMP:20260423T001507Z
SUMMARY:PreK Information Night - Virtual
URL;VALUE=URI:https://www.littletonps.org/shaker-lane-school/calendar/88465
 24/prek-information-night-virtual
DTSTART:20260113T230000Z
DTEND:20260113T234500Z
END:VEVENT
END:VCALENDAR
