BEGIN:VCALENDAR
VERSION:2.0
PRODID:SchoolNow
CALSCALE:GREGORIAN
BEGIN:VEVENT
UID:62a50cfc-fd27-11f0-a23f-0231a46967eb
DTSTAMP:20260423T001507Z
SUMMARY:Shakey's Storytime
URL;VALUE=URI:https://www.littletonps.org/shaker-lane-school/calendar/88465
 23/shakeys-storytime
DTSTART:20260112T233000Z
DTEND:20260113T010000Z
END:VEVENT
END:VCALENDAR
