BEGIN:VCALENDAR
VERSION:2.0
PRODID:SchoolNow
CALSCALE:GREGORIAN
BEGIN:VEVENT
UID:e52eaa06-efcc-11f0-8a72-0a58a9feac02
DTSTAMP:20260112T153934Z
SUMMARY:Shakey's Story Time
URL;VALUE=URI:https://www.littletonps.org/shaker-lane-school/calendar/88349
 38/shakeys-story-time
DTSTART:20260112T152100Z
DTEND:20260112T162100Z
END:VEVENT
END:VCALENDAR
