BEGIN:VCALENDAR
VERSION:2.0
PRODID:SchoolNow
CALSCALE:GREGORIAN
BEGIN:VEVENT
UID:ab85b6aa-dac8-11f0-bed6-0afff950c305
DTSTAMP:20260423T001507Z
SUMMARY:Glow Party Day - Fun Run Prize
URL;VALUE=URI:https://www.littletonps.org/shaker-lane-school/calendar/88252
 23/glow-party-day-fun-run-prize
DTSTART;VALUE=DATE:20260109
DTEND;VALUE=DATE:20260110
END:VEVENT
END:VCALENDAR
