BEGIN:VCALENDAR
VERSION:2.0
PRODID:SchoolNow
CALSCALE:GREGORIAN
BEGIN:VEVENT
UID:1b2375fe-d238-11f0-adc3-0a58a9feac02
DTSTAMP:20260423T001507Z
SUMMARY:P.J Storytime with Mrs. Barth
LOCATION:Reuben Hoar Library\, 35 Shattuck St\, Littleton\, MA 01460\, USA
URL;VALUE=URI:https://www.littletonps.org/shaker-lane-school/calendar/88188
 45/p-j-storytime-with-mrs-barth
DTSTART:20260114T233000Z
DTEND:20260115T000000Z
END:VEVENT
END:VCALENDAR
