BEGIN:VCALENDAR
VERSION:2.0
PRODID:SchoolNow
CALSCALE:GREGORIAN
BEGIN:VEVENT
UID:1b237482-d238-11f0-b0c1-0a58a9feac02
DTSTAMP:20260423T001507Z
SUMMARY:P.J. Storytime with Ms. Warnock
LOCATION:Reuben Hoar Library\, 35 Shattuck St\, Littleton\, MA 01460\, USA
URL;VALUE=URI:https://www.littletonps.org/shaker-lane-school/calendar/88188
 44/p-j-storytime-with-ms-warnock
DTSTART:20260211T233000Z
DTEND:20260212T000000Z
END:VEVENT
END:VCALENDAR
