BEGIN:VCALENDAR
VERSION:2.0
PRODID:SchoolNow
CALSCALE:GREGORIAN
BEGIN:VEVENT
UID:1b237360-d238-11f0-bac7-0a58a9feac02
DTSTAMP:20260423T062007Z
SUMMARY:P.J. Storytime with Mrs. Kane
LOCATION:Reuben Hoar Library\, 35 Shattuck St\, Littleton\, MA 01460\, USA
URL;VALUE=URI:https://www.littletonps.org/shaker-lane-school/calendar/88188
 43/p-j-storytime-with-mrs-kane
DTSTART:20260513T223000Z
DTEND:20260513T230000Z
END:VEVENT
END:VCALENDAR
