BEGIN:VCALENDAR
VERSION:2.0
PRODID:SchoolNow
CALSCALE:GREGORIAN
BEGIN:VEVENT
UID:5ca874be-cfa1-11f0-82b4-02c8c4c2e2d9
DTSTAMP:20260423T062007Z
SUMMARY:2nd Grade Concert
URL;VALUE=URI:https://www.littletonps.org/shaker-lane-school/calendar/88155
 01/2nd-grade-concert
DTSTART;VALUE=DATE:20260616
DTEND;VALUE=DATE:20260617
END:VEVENT
END:VCALENDAR
