BEGIN:VCALENDAR
VERSION:2.0
PRODID:SchoolNow
CALSCALE:GREGORIAN
BEGIN:VEVENT
UID:c863e84a-c4df-11f0-9d85-0a58a9feac02
DTSTAMP:20260425T070007Z
SUMMARY:K- Performance Hold
URL;VALUE=URI:https://www.littletonps.org/shaker-lane-school/calendar/88028
 57/k-performance-hold
DTSTART;VALUE=DATE:20260522
DTEND;VALUE=DATE:20260523
END:VEVENT
END:VCALENDAR
