BEGIN:VCALENDAR
VERSION:2.0
PRODID:SchoolNow
CALSCALE:GREGORIAN
BEGIN:VEVENT
UID:be8abb70-c172-11f0-9159-0afffa06ec9d
DTSTAMP:20251114T155821Z
SUMMARY:Global Play Day
URL;VALUE=URI:https://www.littletonps.org/shaker-lane-school/calendar/87955
 41/global-play-day
DTSTART:20260211T155800Z
DTEND:20260211T165800Z
END:VEVENT
END:VCALENDAR
