BEGIN:VCALENDAR
VERSION:2.0
PRODID:SchoolNow
CALSCALE:GREGORIAN
BEGIN:VEVENT
UID:0305247c-c171-11f0-9662-0affcbc6d1ad
DTSTAMP:20251114T154557Z
SUMMARY:MAP Growth Spring Close
URL;VALUE=URI:https://www.littletonps.org/shaker-lane-school/calendar/87955
 40/map-growth-spring-close
DTSTART:20260529T144500Z
DTEND:20260529T154500Z
END:VEVENT
END:VCALENDAR
