BEGIN:VCALENDAR
VERSION:2.0
PRODID:SchoolNow
CALSCALE:GREGORIAN
BEGIN:VEVENT
UID:f1979170-c170-11f0-8aec-0e927d5bc80f
DTSTAMP:20251114T154528Z
SUMMARY:Kindergarten Screening
URL;VALUE=URI:https://www.littletonps.org/shaker-lane-school/calendar/87955
 39/kindergarten-screening
DTSTART:20260527T144400Z
DTEND:20260529T154400Z
END:VEVENT
END:VCALENDAR
