BEGIN:VCALENDAR
VERSION:2.0
PRODID:SchoolNow
CALSCALE:GREGORIAN
BEGIN:VEVENT
UID:890892a8-c170-11f0-8221-0a58a9feac02
DTSTAMP:20251114T154232Z
SUMMARY:Picture This Day
URL;VALUE=URI:https://www.littletonps.org/shaker-lane-school/calendar/87955
 37/picture-this-day
DTSTART:20260521T144200Z
DTEND:20260521T154200Z
END:VEVENT
END:VCALENDAR
