BEGIN:VCALENDAR
VERSION:2.0
PRODID:SchoolNow
CALSCALE:GREGORIAN
BEGIN:VEVENT
UID:d6ad9360-c16a-11f0-9198-029f6d02c50d
DTSTAMP:20251114T150146Z
SUMMARY:mCLASS Winter K Close
URL;VALUE=URI:https://www.littletonps.org/shaker-lane-school/calendar/87955
 06/mclass-winter-k-close
DTSTART:20260213T145000Z
DTEND:20260213T155000Z
END:VEVENT
END:VCALENDAR
