BEGIN:VCALENDAR
VERSION:2.0
PRODID:SchoolNow
CALSCALE:GREGORIAN
BEGIN:VEVENT
UID:373ecc28-c169-11f0-a303-0e20a12667a5
DTSTAMP:20251114T145009Z
SUMMARY:HEART Day
URL;VALUE=URI:https://www.littletonps.org/shaker-lane-school/calendar/87954
 87/heart-day
DTSTART:20260213T144900Z
DTEND:20260213T154900Z
END:VEVENT
END:VCALENDAR
