BEGIN:VCALENDAR
VERSION:2.0
PRODID:SchoolNow
CALSCALE:GREGORIAN
BEGIN:VEVENT
UID:184ac498-c169-11f0-9b05-0a58a9feac02
DTSTAMP:20251114T144917Z
SUMMARY:PreK Lottery
URL;VALUE=URI:https://www.littletonps.org/shaker-lane-school/calendar/87954
 86/prek-lottery
DTSTART:20260206T143900Z
DTEND:20260206T153900Z
END:VEVENT
END:VCALENDAR
