BEGIN:VCALENDAR
VERSION:2.0
PRODID:SchoolNow
CALSCALE:GREGORIAN
BEGIN:VEVENT
UID:bb6324b0-c167-11f0-b7d3-0e057718bc59
DTSTAMP:20251114T143931Z
SUMMARY:Release of Preschool and Kindergarten Report Cards
URL;VALUE=URI:https://www.littletonps.org/shaker-lane-school/calendar/87954
 78/release-of-preschool-and-kindergarten-report-cards
DTSTART:20260202T143100Z
DTEND:20260202T153100Z
END:VEVENT
END:VCALENDAR
