BEGIN:VCALENDAR
VERSION:2.0
PRODID:SchoolNow
CALSCALE:GREGORIAN
BEGIN:VEVENT
UID:8e453a82-c166-11f0-9fdd-0a58a9feac02
DTSTAMP:20251114T143106Z
SUMMARY:mCLASS Winter K Open
URL;VALUE=URI:https://www.littletonps.org/shaker-lane-school/calendar/87954
 77/mclass-winter-k-open
DTSTART:20260202T143000Z
DTEND:20260202T153000Z
END:VEVENT
END:VCALENDAR
