BEGIN:VCALENDAR
VERSION:2.0
PRODID:SchoolNow
CALSCALE:GREGORIAN
BEGIN:VEVENT
UID:c904e76a-c163-11f0-8e5f-0a58a9feac02
DTSTAMP:20251114T141116Z
SUMMARY:Preschool Applications Due
URL;VALUE=URI:https://www.littletonps.org/shaker-lane-school/calendar/87954
 74/preschool-applications-due
DTSTART:20260130T141000Z
DTEND:20260130T151000Z
END:VEVENT
END:VCALENDAR
