BEGIN:VCALENDAR
VERSION:2.0
PRODID:SchoolNow
CALSCALE:GREGORIAN
BEGIN:VEVENT
UID:9fce8504-c163-11f0-b404-0e20a12667a5
DTSTAMP:20251114T141007Z
SUMMARY:mCLASS Winter Close
URL;VALUE=URI:https://www.littletonps.org/shaker-lane-school/calendar/87954
 73/mclass-winter-close
DTSTART:20260130T140900Z
DTEND:20260130T150900Z
END:VEVENT
END:VCALENDAR
