BEGIN:VCALENDAR
VERSION:2.0
PRODID:SchoolNow
CALSCALE:GREGORIAN
BEGIN:VEVENT
UID:8552753c-c163-11f0-9d87-0affc38c0b45
DTSTAMP:20251114T140923Z
SUMMARY:Acts of Kindness Week
URL;VALUE=URI:https://www.littletonps.org/shaker-lane-school/calendar/87954
 72/acts-of-kindness-week
DTSTART:20260126T140800Z
DTEND:20260130T150800Z
END:VEVENT
END:VCALENDAR
