BEGIN:VCALENDAR
VERSION:2.0
PRODID:SchoolNow
CALSCALE:GREGORIAN
BEGIN:VEVENT
UID:63517d16-c163-11f0-8844-0a58a9feac02
DTSTAMP:20251114T140826Z
SUMMARY:Preschool and Kindergarten Marking Period Ends
URL;VALUE=URI:https://www.littletonps.org/shaker-lane-school/calendar/87954
 71/preschool-and-kindergarten-marking-period-ends
DTSTART:20260123T140700Z
DTEND:20260123T150700Z
END:VEVENT
END:VCALENDAR
