BEGIN:VCALENDAR
VERSION:2.0
PRODID:SchoolNow
CALSCALE:GREGORIAN
BEGIN:VEVENT
UID:3268eeaa-c163-11f0-b7f6-0afffa06ec9d
DTSTAMP:20251114T140704Z
SUMMARY:Pawsitivity Day
URL;VALUE=URI:https://www.littletonps.org/shaker-lane-school/calendar/87954
 70/pawsitivity-day
DTSTART:20260115T140600Z
DTEND:20260115T150600Z
END:VEVENT
END:VCALENDAR
