BEGIN:VCALENDAR
VERSION:2.0
PRODID:SchoolNow
CALSCALE:GREGORIAN
BEGIN:VEVENT
UID:0b8bf0b6-c163-11f0-80af-0e20a12667a5
DTSTAMP:20251114T140558Z
SUMMARY:Preschool Information Night
URL;VALUE=URI:https://www.littletonps.org/shaker-lane-school/calendar/87954
 69/preschool-information-night
DTSTART:20260113T140300Z
DTEND:20260113T150300Z
END:VEVENT
END:VCALENDAR
