BEGIN:VCALENDAR
VERSION:2.0
PRODID:SchoolNow
CALSCALE:GREGORIAN
BEGIN:VEVENT
UID:a8b86654-c162-11f0-81db-0affcbc6d1ad
DTSTAMP:20251114T140313Z
SUMMARY:mCLASS Winter Open
URL;VALUE=URI:https://www.littletonps.org/shaker-lane-school/calendar/87954
 68/mclass-winter-open
DTSTART:20260112T140200Z
DTEND:20260112T150200Z
END:VEVENT
END:VCALENDAR
