BEGIN:VCALENDAR
VERSION:2.0
PRODID:SchoolNow
CALSCALE:GREGORIAN
BEGIN:VEVENT
UID:880017f4-c162-11f0-8dca-0a58a9feac02
DTSTAMP:20251114T140218Z
SUMMARY:ACCESS Testing Open
URL;VALUE=URI:https://www.littletonps.org/shaker-lane-school/calendar/87954
 67/access-testing-open
DTSTART:20260107T140000Z
DTEND:20260107T150000Z
END:VEVENT
END:VCALENDAR
