BEGIN:VCALENDAR
VERSION:2.0
PRODID:SchoolNow
CALSCALE:GREGORIAN
BEGIN:VEVENT
UID:a1e698ba-c161-11f0-add2-0a58a9feac02
DTSTAMP:20251114T135552Z
SUMMARY:School Wide Mad Science Show
URL;VALUE=URI:https://www.littletonps.org/shaker-lane-school/calendar/87954
 54/school-wide-mad-science-show
DTSTART:20251218T135500Z
DTEND:20251218T145500Z
END:VEVENT
END:VCALENDAR
