BEGIN:VCALENDAR
VERSION:2.0
PRODID:SchoolNow
CALSCALE:GREGORIAN
BEGIN:VEVENT
UID:7684794e-c161-11f0-9475-0a58a9feac02
DTSTAMP:20251114T135439Z
SUMMARY:Family Traditions Day
URL;VALUE=URI:https://www.littletonps.org/shaker-lane-school/calendar/87954
 53/family-traditions-day
DTSTART:20251218T135300Z
DTEND:20251218T145300Z
END:VEVENT
END:VCALENDAR
