BEGIN:VCALENDAR
VERSION:2.0
PRODID:SchoolNow
CALSCALE:GREGORIAN
BEGIN:VEVENT
UID:46093070-c161-11f0-90d7-0e057718bc59
DTSTAMP:20251114T135317Z
SUMMARY:Grades 1 & 2 Report Card Release
URL;VALUE=URI:https://www.littletonps.org/shaker-lane-school/calendar/87954
 51/grades-1-2-report-card-release
DTSTART:20251215T135100Z
DTEND:20251215T145100Z
END:VEVENT
END:VCALENDAR
