BEGIN:VCALENDAR
VERSION:2.0
PRODID:SchoolNow
CALSCALE:GREGORIAN
BEGIN:VEVENT
UID:e00bf140-c160-11f0-aa97-02965f3beb47
DTSTAMP:20251114T135026Z
SUMMARY:Marking Period Ends
URL;VALUE=URI:https://www.littletonps.org/shaker-lane-school/calendar/87954
 50/marking-period-ends
DTSTART:20251205T134900Z
DTEND:20251205T144900Z
END:VEVENT
END:VCALENDAR
