BEGIN:VCALENDAR
VERSION:2.0
PRODID:SchoolNow
CALSCALE:GREGORIAN
BEGIN:VEVENT
UID:6c36e57c-c160-11f0-8b81-0a58a9feac02
DTSTAMP:20251114T134712Z
SUMMARY:End of Food Drive
URL;VALUE=URI:https://www.littletonps.org/shaker-lane-school/calendar/87954
 49/end-of-food-drive
DTSTART:20251201T134500Z
DTEND:20251201T144500Z
END:VEVENT
END:VCALENDAR
