BEGIN:VCALENDAR
VERSION:2.0
PRODID:SchoolNow
CALSCALE:GREGORIAN
BEGIN:VEVENT
UID:328a6854-be80-11f0-9913-0afff5cf8413
DTSTAMP:20260423T001507Z
SUMMARY:Math and Literacy Night
URL;VALUE=URI:https://www.littletonps.org/shaker-lane-school/calendar/87880
 44/math-and-literacy-night
DTSTART;VALUE=DATE:20260212
DTEND;VALUE=DATE:20260213
END:VEVENT
END:VCALENDAR
