BEGIN:VCALENDAR
VERSION:2.0
PRODID:SchoolNow
CALSCALE:GREGORIAN
BEGIN:VEVENT
UID:ae90921a-31c8-11f0-b6b1-0a58a9feac02
DTSTAMP:20260423T062007Z
SUMMARY:Early Release - Tentative Last Day
URL;VALUE=URI:https://www.littletonps.org/shaker-lane-school/calendar/81411
 56/early-release-tentative-last-day
DTSTART;VALUE=DATE:20260618
DTEND;VALUE=DATE:20260619
END:VEVENT
END:VCALENDAR
