BEGIN:VCALENDAR
VERSION:2.0
PRODID:SchoolNow
CALSCALE:GREGORIAN
BEGIN:VEVENT
UID:ae90913e-31c8-11f0-9ccc-0a58a9feac02
DTSTAMP:20260423T062007Z
SUMMARY:No School
URL;VALUE=URI:https://www.littletonps.org/shaker-lane-school/calendar/81411
 54/no-school
DTSTART;VALUE=DATE:20260525
DTEND;VALUE=DATE:20260526
END:VEVENT
END:VCALENDAR
