BEGIN:VCALENDAR
VERSION:2.0
PRODID:SchoolNow
CALSCALE:GREGORIAN
BEGIN:VEVENT
UID:ae908dce-31c8-11f0-9d2a-0a58a9feac02
DTSTAMP:20260423T062007Z
SUMMARY:Early Release
URL;VALUE=URI:https://www.littletonps.org/shaker-lane-school/calendar/81411
 45/early-release
DTSTART;VALUE=DATE:20260403
DTEND;VALUE=DATE:20260404
END:VEVENT
END:VCALENDAR
