BEGIN:VCALENDAR
VERSION:2.0
PRODID:SchoolNow
CALSCALE:GREGORIAN
BEGIN:VEVENT
UID:ae908b44-31c8-11f0-8143-0a58a9feac02
DTSTAMP:20260423T001507Z
SUMMARY:No School - Winter Break
URL;VALUE=URI:https://www.littletonps.org/shaker-lane-school/calendar/81411
 39/no-school-winter-break
DTSTART;VALUE=DATE:20260216
DTEND;VALUE=DATE:20260221
END:VEVENT
END:VCALENDAR
