BEGIN:VCALENDAR
VERSION:2.0
PRODID:SchoolNow
CALSCALE:GREGORIAN
BEGIN:VEVENT
UID:ae908a68-31c8-11f0-ae9d-0a58a9feac02
DTSTAMP:20260423T001507Z
SUMMARY:No School - Holiday Break
URL;VALUE=URI:https://www.littletonps.org/shaker-lane-school/calendar/81411
 36/no-school-holiday-break
DTSTART;VALUE=DATE:20251224
DTEND;VALUE=DATE:20260103
END:VEVENT
END:VCALENDAR
