BEGIN:VCALENDAR
VERSION:2.0
PRODID:SchoolNow
CALSCALE:GREGORIAN
BEGIN:VEVENT
UID:ae90898c-31c8-11f0-9379-0a58a9feac02
DTSTAMP:20260423T001507Z
SUMMARY:Early Release
URL;VALUE=URI:https://www.littletonps.org/shaker-lane-school/calendar/81411
 34/early-release
DTSTART;VALUE=DATE:20260204
DTEND;VALUE=DATE:20260205
END:VEVENT
END:VCALENDAR
