BEGIN:VCALENDAR
VERSION:2.0
PRODID:SchoolNow
CALSCALE:GREGORIAN
BEGIN:VEVENT
UID:ae9088a6-31c8-11f0-884b-0a58a9feac02
DTSTAMP:20260423T001507Z
SUMMARY:No School
URL;VALUE=URI:https://www.littletonps.org/shaker-lane-school/calendar/81411
 32/no-school
DTSTART;VALUE=DATE:20260119
DTEND;VALUE=DATE:20260120
END:VEVENT
END:VCALENDAR
