BEGIN:VCALENDAR
VERSION:2.0
PRODID:SchoolNow
CALSCALE:GREGORIAN
BEGIN:VEVENT
UID:ae9087ca-31c8-11f0-8752-0a58a9feac02
DTSTAMP:20260423T001507Z
SUMMARY:Early Release
URL;VALUE=URI:https://www.littletonps.org/shaker-lane-school/calendar/81411
 30/early-release
DTSTART;VALUE=DATE:20260114
DTEND;VALUE=DATE:20260115
END:VEVENT
END:VCALENDAR
