BEGIN:VCALENDAR
VERSION:2.0
PRODID:SchoolNow
CALSCALE:GREGORIAN
BEGIN:VEVENT
UID:f8938116-3810-11f1-821a-0ea95dd34c39
DTSTAMP:20260414T144816Z
SUMMARY:Bike Safety with Littleton Electric Department
URL;VALUE=URI:https://www.littletonps.org/russell-street-school/calendar/89
 93239/bike-safety-with-littleton-electric-department
DTSTART:20260602T140000Z
DTEND:20260602T150000Z
END:VEVENT
END:VCALENDAR
