BEGIN:VCALENDAR
VERSION:2.0
PRODID:SchoolNow
CALSCALE:GREGORIAN
BEGIN:VEVENT
UID:68967cda-883e-11f0-905a-0a58a9feac02
DTSTAMP:20260424T051019Z
SUMMARY:Early Release
URL;VALUE=URI:https://www.littletonps.org/russell-street-school/calendar/85
 72564/early-release
DTSTART:20260501T161000Z
DTEND:20260501T171000Z
END:VEVENT
END:VCALENDAR
