BEGIN:VCALENDAR
VERSION:2.0
PRODID:SchoolNow
CALSCALE:GREGORIAN
BEGIN:VEVENT
UID:dc83645a-7d12-11f0-8c24-0a58a9feac02
DTSTAMP:20260421T180508Z
SUMMARY:Administrative Professionals Day
URL;VALUE=URI:https://www.littletonps.org/middle-school/calendar/8521634/ad
 ministrative-professionals-day
DTSTART;VALUE=DATE:20260422
DTEND;VALUE=DATE:20260423
END:VEVENT
END:VCALENDAR
