BEGIN:VCALENDAR
VERSION:2.0
PRODID:SchoolNow
CALSCALE:GREGORIAN
BEGIN:VEVENT
UID:24fbe772-77b2-11f0-936a-0289337850b1
DTSTAMP:20260421T120008Z
SUMMARY:No School- Spring Break
URL;VALUE=URI:https://www.littletonps.org/middle-school/calendar/8494952/no
 -school-spring-break
DTSTART;VALUE=DATE:20260420
DTEND;VALUE=DATE:20260425
END:VEVENT
END:VCALENDAR
