BEGIN:VCALENDAR
VERSION:2.0
PRODID:SchoolNow
CALSCALE:GREGORIAN
BEGIN:VEVENT
UID:5d12b276-2d0b-11f1-8ba4-0a58a9feac02
DTSTAMP:20260421T090029Z
SUMMARY:Class of 2028 Student vs Faculty Basketball Game/ Auction
URL;VALUE=URI:https://www.littletonps.org/high-school/calendar/8960074/clas
 s-of-2028-student-vs-faculty-basketball-game-auction
DTSTART:20260402T223000Z
DTEND:20260403T000000Z
END:VEVENT
END:VCALENDAR
