BEGIN:VCALENDAR
VERSION:2.0
PRODID:SchoolNow
CALSCALE:GREGORIAN
BEGIN:VEVENT
UID:bf9f2e0c-11c1-11f1-8b45-0a58a9feac02
DTSTAMP:20260421T090029Z
SUMMARY:Spring Junior College Fair @ LHS Gymnasium
URL;VALUE=URI:https://www.littletonps.org/high-school/calendar/8869272/spri
 ng-junior-college-fair-lhs-gymnasium
DTSTART:20260318T220000Z
DTEND:20260318T233000Z
END:VEVENT
END:VCALENDAR
