BEGIN:VCALENDAR
VERSION:2.0
PRODID:SchoolNow
CALSCALE:GREGORIAN
BEGIN:VEVENT
UID:5374dd02-06cd-11f1-849f-0a58a9feac02
DTSTAMP:20260421T090029Z
SUMMARY:LHS STEM Research Expo @ Reuben Hoar Library
URL;VALUE=URI:https://www.littletonps.org/high-school/calendar/8852416/lhs-
 stem-research-expo-reuben-hoar-library
DTSTART:20260322T200000Z
DTEND:20260322T213000Z
END:VEVENT
END:VCALENDAR
