BEGIN:VCALENDAR
VERSION:2.0
PRODID:SchoolNow
CALSCALE:GREGORIAN
BEGIN:VEVENT
UID:8b35eb82-02d1-11f1-8fb1-0afff72d1101
DTSTAMP:20260421T150525Z
SUMMARY:Junior College Planning Night
URL;VALUE=URI:https://www.littletonps.org/high-school/calendar/8850112/juni
 or-college-planning-night
DTSTART:20260205T230000Z
DTEND:20260206T003000Z
END:VEVENT
END:VCALENDAR
